Name | Last modified | Size | Description | |
---|---|---|---|---|
Parent Directory | - | |||
buildbin-out.txt | 05-Mar-2024 01:37 | 1.2K | ||
buildbin-summary.dcf | 05-Mar-2024 01:37 | 554 | ||
buildsrc-out.txt | 05-Mar-2024 01:37 | 895 | ||
buildsrc-summary.dcf | 05-Mar-2024 01:37 | 439 | ||
checksrc-out.txt | 05-Mar-2024 01:37 | 4.3K | ||
checksrc-summary.dcf | 05-Mar-2024 01:37 | 460 | ||
install-out.txt | 05-Mar-2024 01:37 | 1.0K | ||
install-summary.dcf | 05-Mar-2024 01:37 | 277 | ||