Name | Last modified | Size | Description | |
---|---|---|---|---|
Parent Directory | - | |||
checksrc-out.txt | 03-Nov-2023 00:40 | 4.2K | ||
install-out.txt | 03-Nov-2023 00:40 | 960 | ||
buildsrc-out.txt | 03-Nov-2023 00:40 | 879 | ||
checksrc-summary.dcf | 03-Nov-2023 00:40 | 433 | ||
buildsrc-summary.dcf | 03-Nov-2023 00:40 | 423 | ||
install-summary.dcf | 03-Nov-2023 00:40 | 261 | ||