Index of /checkResults/3.18/bioc-LATEST/geneXtendeR/raw-results/nebbiolo2

[ICO]NameLast modifiedSizeDescription

[DIR]Parent Directory  -  
[TXT]buildsrc-out.txt23-Feb-2024 01:35 765  
[   ]buildsrc-summary.dcf23-Feb-2024 01:35 428  
[TXT]checksrc-out.txt23-Feb-2024 01:35 8.6K 
[   ]checksrc-summary.dcf23-Feb-2024 01:35 436  
[TXT]install-out.txt23-Feb-2024 01:35 4.3K 
[   ]install-summary.dcf23-Feb-2024 01:35 267