Name | Last modified | Size | Description | |
---|---|---|---|---|
Parent Directory | - | |||
buildbin-out.txt | 18-Apr-2024 00:37 | 5.1K | ||
buildbin-summary.dcf | 18-Apr-2024 00:37 | 555 | ||
buildsrc-out.txt | 18-Apr-2024 00:37 | 775 | ||
buildsrc-summary.dcf | 18-Apr-2024 00:37 | 438 | ||
checksrc-out.txt | 18-Apr-2024 00:37 | 7.8K | ||
checksrc-summary.dcf | 18-Apr-2024 00:37 | 467 | ||
install-out.txt | 18-Apr-2024 00:37 | 3.1K | ||
install-summary.dcf | 18-Apr-2024 00:37 | 278 | ||