Name | Last modified | Size | Description | |
---|---|---|---|---|
Parent Directory | - | |||
buildbin-out.txt | 05-Mar-2024 01:37 | 5.1K | ||
buildbin-summary.dcf | 05-Mar-2024 01:37 | 554 | ||
buildsrc-out.txt | 05-Mar-2024 01:37 | 775 | ||
buildsrc-summary.dcf | 05-Mar-2024 01:37 | 438 | ||
checksrc-out.txt | 05-Mar-2024 01:37 | 7.7K | ||
checksrc-summary.dcf | 05-Mar-2024 01:37 | 466 | ||
install-out.txt | 05-Mar-2024 01:37 | 3.1K | ||
install-summary.dcf | 05-Mar-2024 01:37 | 277 | ||