Index of /checkResults/3.18/bioc-LATEST/geneXtendeR/raw-results/lconway

[ICO]NameLast modifiedSizeDescription

[DIR]Parent Directory  -  
[TXT]buildbin-out.txt03-Mar-2024 01:37 5.1K 
[   ]buildbin-summary.dcf03-Mar-2024 01:37 554  
[TXT]buildsrc-out.txt03-Mar-2024 01:37 775  
[   ]buildsrc-summary.dcf03-Mar-2024 01:37 438  
[TXT]checksrc-out.txt03-Mar-2024 01:37 7.7K 
[   ]checksrc-summary.dcf03-Mar-2024 01:37 466  
[TXT]install-out.txt03-Mar-2024 01:37 3.1K 
[   ]install-summary.dcf03-Mar-2024 01:37 277