Name | Last modified | Size | Description | |
---|---|---|---|---|
Parent Directory | - | |||
checksrc-out.txt | 03-Nov-2023 00:40 | 8.1K | ||
install-out.txt | 03-Nov-2023 00:40 | 2.9K | ||
buildsrc-out.txt | 03-Nov-2023 00:40 | 759 | ||
checksrc-summary.dcf | 03-Nov-2023 00:40 | 437 | ||
buildsrc-summary.dcf | 03-Nov-2023 00:40 | 422 | ||
install-summary.dcf | 03-Nov-2023 00:40 | 261 | ||