Name | Last modified | Size | Description | |
---|---|---|---|---|
Parent Directory | - | |||
install-summary.dcf | 03-Nov-2023 00:40 | 248 | ||
buildsrc-summary.dcf | 03-Nov-2023 00:40 | 404 | ||
checksrc-summary.dcf | 03-Nov-2023 00:40 | 407 | ||
buildsrc-out.txt | 03-Nov-2023 00:40 | 791 | ||
install-out.txt | 03-Nov-2023 00:40 | 1.0K | ||
checksrc-out.txt | 03-Nov-2023 00:40 | 8.2K | ||