Index of /checkResults/3.18/bioc-LATEST/gDRimport/raw-results/palomino4

[ICO]NameLast modifiedSizeDescription

[DIR]Parent Directory  -  
[TXT]buildbin-out.txt30-Mar-2024 00:36 1.1K 
[   ]buildbin-summary.dcf30-Mar-2024 00:36 524  
[TXT]buildsrc-out.txt30-Mar-2024 00:36 848  
[   ]buildsrc-summary.dcf30-Mar-2024 00:36 457  
[TXT]checksrc-out.txt30-Mar-2024 00:36 3.3K 
[   ]checksrc-summary.dcf30-Mar-2024 00:36 453  
[TXT]install-out.txt30-Mar-2024 00:36 968  
[   ]install-summary.dcf30-Mar-2024 00:36 271