Back to Multiple platform build/check report for BioC 3.18:   simplified   long
ABCDEF[G]HIJKLMNOPQRSTUVWXYZ

This page was generated on 2023-12-07 11:37:42 -0500 (Thu, 07 Dec 2023).

HostnameOSArch (*)R versionInstalled pkgs
nebbiolo2Linux (Ubuntu 22.04.2 LTS)x86_644.3.2 Patched (2023-11-13 r85521) -- "Eye Holes" 4688
palomino4Windows Server 2022 Datacenterx644.3.2 (2023-10-31 ucrt) -- "Eye Holes" 4439
lconwaymacOS 12.7.1 Montereyx86_644.3.2 Patched (2023-11-01 r85457) -- "Eye Holes" 4458
Click on any hostname to see more info about the system (e.g. compilers)      (*) as reported by 'uname -p', except on Windows and Mac OS X

Package 779/2266HostnameOS / ArchINSTALLBUILDCHECKBUILD BIN
gDRimport 1.0.0  (landing page)
Arkadiusz Gladki
Snapshot Date: 2023-12-06 14:05:06 -0500 (Wed, 06 Dec 2023)
git_url: https://git.bioconductor.org/packages/gDRimport
git_branch: RELEASE_3_18
git_last_commit: bc9e88f
git_last_commit_date: 2023-10-24 11:49:32 -0500 (Tue, 24 Oct 2023)
nebbiolo2Linux (Ubuntu 22.04.2 LTS) / x86_64  OK    OK    OK  UNNEEDED, same version is already published
palomino4Windows Server 2022 Datacenter / x64  OK    OK    OK    OK  UNNEEDED, same version is already published
lconwaymacOS 12.7.1 Monterey / x86_64  OK    OK    OK    OK  UNNEEDED, same version is already published
kjohnson1macOS 13.6.1 Ventura / arm64see weekly results here

CHECK results for gDRimport on lconway


To the developers/maintainers of the gDRimport package:
- Allow up to 24 hours (and sometimes 48 hours) for your latest push to git@git.bioconductor.org:packages/gDRimport.git to reflect on this report. See Troubleshooting Build Report for more information.
- Use the following Renviron settings to reproduce errors and warnings.
- If 'R CMD check' started to fail recently on the Linux builder(s) over a missing dependency, add the missing dependency to 'Suggests:' in your DESCRIPTION file. See Renviron.bioc for more information.

raw results


Summary

Package: gDRimport
Version: 1.0.0
Command: /Library/Frameworks/R.framework/Resources/bin/R CMD check --install=check:gDRimport.install-out.txt --library=/Library/Frameworks/R.framework/Resources/library --no-vignettes --timings gDRimport_1.0.0.tar.gz
StartedAt: 2023-12-06 20:21:24 -0500 (Wed, 06 Dec 2023)
EndedAt: 2023-12-06 20:24:37 -0500 (Wed, 06 Dec 2023)
EllapsedTime: 193.0 seconds
RetCode: 0
Status:   OK  
CheckDir: gDRimport.Rcheck
Warnings: 0

Command output

##############################################################################
##############################################################################
###
### Running command:
###
###   /Library/Frameworks/R.framework/Resources/bin/R CMD check --install=check:gDRimport.install-out.txt --library=/Library/Frameworks/R.framework/Resources/library --no-vignettes --timings gDRimport_1.0.0.tar.gz
###
##############################################################################
##############################################################################


* using log directory ‘/Users/biocbuild/bbs-3.18-bioc/meat/gDRimport.Rcheck’
* using R version 4.3.2 Patched (2023-11-01 r85457)
* using platform: x86_64-apple-darwin20 (64-bit)
* R was compiled by
    Apple clang version 14.0.3 (clang-1403.0.22.14.1)
    GNU Fortran (GCC) 12.2.0
* running under: macOS Monterey 12.7.1
* using session charset: UTF-8
* using option ‘--no-vignettes’
* checking for file ‘gDRimport/DESCRIPTION’ ... OK
* checking extension type ... Package
* this is package ‘gDRimport’ version ‘1.0.0’
* package encoding: UTF-8
* checking package namespace information ... OK
* checking package dependencies ... OK
* checking if this is a source package ... OK
* checking if there is a namespace ... OK
* checking for hidden files and directories ... OK
* checking for portable file names ... OK
* checking for sufficient/correct file permissions ... OK
* checking whether package ‘gDRimport’ can be installed ... OK
* checking installed package size ... OK
* checking package directory ... OK
* checking ‘build’ directory ... OK
* checking DESCRIPTION meta-information ... OK
* checking top-level files ... OK
* checking for left-over files ... OK
* checking index information ... OK
* checking package subdirectories ... OK
* checking R files for non-ASCII characters ... OK
* checking R files for syntax errors ... OK
* checking whether the package can be loaded ... OK
* checking whether the package can be loaded with stated dependencies ... OK
* checking whether the package can be unloaded cleanly ... OK
* checking whether the namespace can be loaded with stated dependencies ... OK
* checking whether the namespace can be unloaded cleanly ... OK
* checking dependencies in R code ... OK
* checking S3 generic/method consistency ... OK
* checking replacement functions ... OK
* checking foreign function calls ... OK
* checking R code for possible problems ... OK
* checking Rd files ... OK
* checking Rd metadata ... OK
* checking Rd cross-references ... OK
* checking for missing documentation entries ... OK
* checking for code/documentation mismatches ... OK
* checking Rd \usage sections ... OK
* checking Rd contents ... OK
* checking for unstated dependencies in examples ... OK
* checking files in ‘vignettes’ ... OK
* checking examples ... OK
Examples with CPU (user + system) or elapsed time > 5s
                     user system elapsed
convert_MAE_to_PSet 4.891  0.307   5.232
* checking for unstated dependencies in ‘tests’ ... OK
* checking tests ...
  Running ‘testthat.R’
 OK
* checking for unstated dependencies in vignettes ... OK
* checking package vignettes in ‘inst/doc’ ... OK
* checking running R code from vignettes ... SKIPPED
* checking re-building of vignette outputs ... SKIPPED
* checking PDF version of manual ... OK
* DONE

Status: OK


Installation output

gDRimport.Rcheck/00install.out

##############################################################################
##############################################################################
###
### Running command:
###
###   /Library/Frameworks/R.framework/Resources/bin/R CMD INSTALL gDRimport
###
##############################################################################
##############################################################################


* installing to library ‘/Library/Frameworks/R.framework/Versions/4.3-x86_64/Resources/library’
* installing *source* package ‘gDRimport’ ...
** using staged installation
** R
** inst
** byte-compile and prepare package for lazy loading
** help
*** installing help indices
** building package indices
** installing vignettes
** testing if installed package can be loaded from temporary location
** testing if installed package can be loaded from final location
** testing if installed package keeps a record of temporary installation path
* DONE (gDRimport)

Tests output

gDRimport.Rcheck/tests/testthat.Rout


R version 4.3.2 Patched (2023-11-01 r85457) -- "Eye Holes"
Copyright (C) 2023 The R Foundation for Statistical Computing
Platform: x86_64-apple-darwin20 (64-bit)

R is free software and comes with ABSOLUTELY NO WARRANTY.
You are welcome to redistribute it under certain conditions.
Type 'license()' or 'licence()' for distribution details.

R is a collaborative project with many contributors.
Type 'contributors()' for more information and
'citation()' on how to cite R or R packages in publications.

Type 'demo()' for some demos, 'help()' for on-line help, or
'help.start()' for an HTML browser interface to help.
Type 'q()' to quit R.

> library(testthat)
> library(gDRimport)
> 
> test_check("gDRimport")
INFO [2023-12-06 20:24:13] Manifest loaded successfully
INFO [2023-12-06 20:24:13] Manifest loaded successfully
INFO [2023-12-06 20:24:13] Reading file /Library/Frameworks/R.framework/Versions/4.3-x86_64/Resources/library/gDRimport/extdata/data1/RawData_day0.xlsx, sheet Readout_0077vs0068_day7
INFO [2023-12-06 20:24:14] Plate 201904190a read; 384 wells
INFO [2023-12-06 20:24:14] Plate 201904190b read; 384 wells
INFO [2023-12-06 20:24:14] Plate 201904190c read; 384 wells
INFO [2023-12-06 20:24:14] Plate 201904190d read; 384 wells
INFO [2023-12-06 20:24:14] Plate 201904190e read; 384 wells
INFO [2023-12-06 20:24:14] Plate 201904190f read; 384 wells
INFO [2023-12-06 20:24:14] File done
INFO [2023-12-06 20:24:14] Reading file /Library/Frameworks/R.framework/Versions/4.3-x86_64/Resources/library/gDRimport/extdata/data1/RawData_day7.xlsx, sheet Readout_0077vs0068_day7
INFO [2023-12-06 20:24:14] Plate 201904197a read; 384 wells
INFO [2023-12-06 20:24:14] Plate 201904197b read; 384 wells
INFO [2023-12-06 20:24:14] Plate 201904197c read; 384 wells
INFO [2023-12-06 20:24:14] Plate 201904197d read; 384 wells
INFO [2023-12-06 20:24:14] Plate 201904197e read; 384 wells
INFO [2023-12-06 20:24:14] Plate 201904197f read; 384 wells
INFO [2023-12-06 20:24:14] File done
INFO [2023-12-06 20:24:14] Reading file /Library/Frameworks/R.framework/Versions/4.3-x86_64/Resources/library/gDRimport/extdata/data1/RawData_day0.xlsx, sheet Readout_0077vs0068_day7
INFO [2023-12-06 20:24:15] Plate 201904190a read; 384 wells
INFO [2023-12-06 20:24:15] Plate 201904190b read; 384 wells
INFO [2023-12-06 20:24:15] Plate 201904190c read; 384 wells
INFO [2023-12-06 20:24:15] Plate 201904190d read; 384 wells
INFO [2023-12-06 20:24:15] Plate 201904190e read; 384 wells
INFO [2023-12-06 20:24:15] Plate 201904190f read; 384 wells
INFO [2023-12-06 20:24:15] File done
INFO [2023-12-06 20:24:15] Reading file /Library/Frameworks/R.framework/Versions/4.3-x86_64/Resources/library/gDRimport/extdata/data1/RawData_day7.xlsx, sheet Readout_0077vs0068_day7
INFO [2023-12-06 20:24:15] Plate 201904197a read; 384 wells
INFO [2023-12-06 20:24:15] Plate 201904197b read; 384 wells
INFO [2023-12-06 20:24:15] Plate 201904197c read; 384 wells
INFO [2023-12-06 20:24:15] Plate 201904197d read; 384 wells
INFO [2023-12-06 20:24:15] Plate 201904197e read; 384 wells
INFO [2023-12-06 20:24:15] Plate 201904197f read; 384 wells
INFO [2023-12-06 20:24:15] File done
INFO [2023-12-06 20:24:15] Reading file /Library/Frameworks/R.framework/Versions/4.3-x86_64/Resources/library/gDRimport/extdata/data1/RawData_day0.xlsx, sheet Readout_0077vs0068_day7
INFO [2023-12-06 20:24:16] Plate 201904190a read; 384 wells
INFO [2023-12-06 20:24:16] Plate 201904190b read; 384 wells
INFO [2023-12-06 20:24:16] Plate 201904190c read; 384 wells
INFO [2023-12-06 20:24:16] Plate 201904190d read; 384 wells
INFO [2023-12-06 20:24:16] Plate 201904190e read; 384 wells
INFO [2023-12-06 20:24:16] Plate 201904190f read; 384 wells
INFO [2023-12-06 20:24:16] File done
INFO [2023-12-06 20:24:16] Reading file /Library/Frameworks/R.framework/Versions/4.3-x86_64/Resources/library/gDRimport/extdata/data2/RawData_Tecan_96_well_plates.xlsx, sheet H2122-2
INFO [2023-12-06 20:24:16] Reading file /Library/Frameworks/R.framework/Versions/4.3-x86_64/Resources/library/gDRimport/extdata/data2/RawData_Tecan_96_well_plates.xlsx, sheet H358-2
INFO [2023-12-06 20:24:16] Reading file /Library/Frameworks/R.framework/Versions/4.3-x86_64/Resources/library/gDRimport/extdata/data2/RawData_Tecan_96_well_plates.xlsx, sheet H358-1
INFO [2023-12-06 20:24:16] Reading file /Library/Frameworks/R.framework/Versions/4.3-x86_64/Resources/library/gDRimport/extdata/data2/RawData_Tecan_96_well_plates.xlsx, sheet H2122-1
INFO [2023-12-06 20:24:17] Reading Template_7daytreated.xlsx with load_templates_xlsx
INFO [2023-12-06 20:24:17] Loading Template_7daytreated.xlsx
INFO [2023-12-06 20:24:17] Loading Template_Untreated.xlsx
INFO [2023-12-06 20:24:17] Templates loaded successfully!
INFO [2023-12-06 20:24:17] Reading Template_7daytreated.xlsx with load_templates_xlsx
INFO [2023-12-06 20:24:17] Loading Template_7daytreated.xlsx
INFO [2023-12-06 20:24:17] Loading Template_Untreated.xlsx
INFO [2023-12-06 20:24:17] Templates loaded successfully!
INFO [2023-12-06 20:24:17] Reading D300_trt_Tecan_96_well_plates.xlsx with load_templates_xlsx
INFO [2023-12-06 20:24:17] Loading D300_trt_Tecan_96_well_plates.xlsx
INFO [2023-12-06 20:24:17] Templates loaded successfully!
INFO [2023-12-06 20:24:17] Reading Template_7daytreated.xlsx with load_templates_xlsx
INFO [2023-12-06 20:24:17] Loading Template_7daytreated.xlsx
INFO [2023-12-06 20:24:17] Templates loaded successfully!
INFO [2023-12-06 20:24:17] Manifest loaded successfully
INFO [2023-12-06 20:24:17] Reading Template_7daytreated.xlsx with load_templates_xlsx
INFO [2023-12-06 20:24:17] Loading Template_7daytreated.xlsx
INFO [2023-12-06 20:24:18] Loading Template_Untreated.xlsx
INFO [2023-12-06 20:24:18] Templates loaded successfully!
INFO [2023-12-06 20:24:18] Reading file /Library/Frameworks/R.framework/Versions/4.3-x86_64/Resources/library/gDRimport/extdata/data1/RawData_day0.xlsx, sheet Readout_0077vs0068_day7
INFO [2023-12-06 20:24:18] Plate 201904190a read; 384 wells
INFO [2023-12-06 20:24:18] Plate 201904190b read; 384 wells
INFO [2023-12-06 20:24:18] Plate 201904190c read; 384 wells
INFO [2023-12-06 20:24:18] Plate 201904190d read; 384 wells
INFO [2023-12-06 20:24:18] Plate 201904190e read; 384 wells
INFO [2023-12-06 20:24:18] Plate 201904190f read; 384 wells
INFO [2023-12-06 20:24:18] File done
INFO [2023-12-06 20:24:18] Reading file /Library/Frameworks/R.framework/Versions/4.3-x86_64/Resources/library/gDRimport/extdata/data1/RawData_day7.xlsx, sheet Readout_0077vs0068_day7
INFO [2023-12-06 20:24:18] Plate 201904197a read; 384 wells
INFO [2023-12-06 20:24:18] Plate 201904197b read; 384 wells
INFO [2023-12-06 20:24:18] Plate 201904197c read; 384 wells
INFO [2023-12-06 20:24:18] Plate 201904197d read; 384 wells
INFO [2023-12-06 20:24:18] Plate 201904197e read; 384 wells
INFO [2023-12-06 20:24:18] Plate 201904197f read; 384 wells
INFO [2023-12-06 20:24:18] File done
INFO [2023-12-06 20:24:19] Manifest loaded successfully
INFO [2023-12-06 20:24:19] Reading D300_trt_Tecan_96_well_plates.xlsx with load_templates_xlsx
INFO [2023-12-06 20:24:19] Loading D300_trt_Tecan_96_well_plates.xlsx
INFO [2023-12-06 20:24:19] Templates loaded successfully!
INFO [2023-12-06 20:24:19] Reading file /Library/Frameworks/R.framework/Versions/4.3-x86_64/Resources/library/gDRimport/extdata/data2/RawData_Tecan_96_well_plates.xlsx, sheet H2122-2
INFO [2023-12-06 20:24:19] Reading file /Library/Frameworks/R.framework/Versions/4.3-x86_64/Resources/library/gDRimport/extdata/data2/RawData_Tecan_96_well_plates.xlsx, sheet H358-2
INFO [2023-12-06 20:24:19] Reading file /Library/Frameworks/R.framework/Versions/4.3-x86_64/Resources/library/gDRimport/extdata/data2/RawData_Tecan_96_well_plates.xlsx, sheet H358-1
INFO [2023-12-06 20:24:19] Reading file /Library/Frameworks/R.framework/Versions/4.3-x86_64/Resources/library/gDRimport/extdata/data2/RawData_Tecan_96_well_plates.xlsx, sheet H2122-1
INFO [2023-12-06 20:24:19] Manifest loaded successfully
INFO [2023-12-06 20:24:19] Reading Project40.treated.template.xlsx with load_templates_xlsx
INFO [2023-12-06 20:24:20] Loading Project40.treated.template.xlsx
INFO [2023-12-06 20:24:20] Loading Project40.untreated.template.xlsx
INFO [2023-12-06 20:24:20] Templates loaded successfully!
INFO [2023-12-06 20:24:20] Reading file /Library/Frameworks/R.framework/Versions/4.3-x86_64/Resources/library/gDRimport/extdata/data4/H0109269D00.csv, sheet 0
INFO [2023-12-06 20:24:20] Plate H0109269D00 read; 384 wells
INFO [2023-12-06 20:24:20] File done
INFO [2023-12-06 20:24:20] Reading file /Library/Frameworks/R.framework/Versions/4.3-x86_64/Resources/library/gDRimport/extdata/data4/H0109269D01.csv, sheet 0
INFO [2023-12-06 20:24:20] Plate H0109269D01 read; 384 wells
INFO [2023-12-06 20:24:20] File done
INFO [2023-12-06 20:24:20] Reading file /Library/Frameworks/R.framework/Versions/4.3-x86_64/Resources/library/gDRimport/extdata/data4/H0309269D00.csv, sheet 0
INFO [2023-12-06 20:24:20] Plate H0309269D00 read; 384 wells
INFO [2023-12-06 20:24:20] File done
INFO [2023-12-06 20:24:20] Reading file /Library/Frameworks/R.framework/Versions/4.3-x86_64/Resources/library/gDRimport/extdata/data4/H0309269D01.csv, sheet 0
INFO [2023-12-06 20:24:20] Plate H0309269D01 read; 384 wells
INFO [2023-12-06 20:24:20] File done
INFO [2023-12-06 20:24:20] Reading file /Library/Frameworks/R.framework/Versions/4.3-x86_64/Resources/library/gDRimport/extdata/data4/H0409269D00.csv, sheet 0
INFO [2023-12-06 20:24:20] Plate H0409269D00 read; 384 wells
INFO [2023-12-06 20:24:20] File done
INFO [2023-12-06 20:24:20] Reading file /Library/Frameworks/R.framework/Versions/4.3-x86_64/Resources/library/gDRimport/extdata/data4/H0409269D01.csv, sheet 0
INFO [2023-12-06 20:24:20] Plate H0409269D01 read; 384 wells
INFO [2023-12-06 20:24:20] File done
INFO [2023-12-06 20:24:20] Reading file /Library/Frameworks/R.framework/Versions/4.3-x86_64/Resources/library/gDRimport/extdata/data4/H0509269D00.csv, sheet 0
INFO [2023-12-06 20:24:20] Plate H0509269D00 read; 384 wells
INFO [2023-12-06 20:24:20] File done
INFO [2023-12-06 20:24:20] Reading file /Library/Frameworks/R.framework/Versions/4.3-x86_64/Resources/library/gDRimport/extdata/data4/H0509269D01.csv, sheet 0
INFO [2023-12-06 20:24:20] Plate H0509269D01 read; 384 wells
INFO [2023-12-06 20:24:20] File done
INFO [2023-12-06 20:24:20] Reading file /Library/Frameworks/R.framework/Versions/4.3-x86_64/Resources/library/gDRimport/extdata/data4/H0609269D00.csv, sheet 0
INFO [2023-12-06 20:24:20] Plate H0609269D00 read; 384 wells
INFO [2023-12-06 20:24:20] File done
INFO [2023-12-06 20:24:20] Reading file /Library/Frameworks/R.framework/Versions/4.3-x86_64/Resources/library/gDRimport/extdata/data4/H0609269D01.csv, sheet 0
INFO [2023-12-06 20:24:20] Plate H0609269D01 read; 384 wells
INFO [2023-12-06 20:24:20] File done
INFO [2023-12-06 20:24:20] Reading file /Library/Frameworks/R.framework/Versions/4.3-x86_64/Resources/library/gDRimport/extdata/data4/H0709269D00.csv, sheet 0
INFO [2023-12-06 20:24:20] Plate H0709269D00 read; 384 wells
INFO [2023-12-06 20:24:20] File done
INFO [2023-12-06 20:24:20] Reading file /Library/Frameworks/R.framework/Versions/4.3-x86_64/Resources/library/gDRimport/extdata/data4/H0709269D01.csv, sheet 0
INFO [2023-12-06 20:24:20] Plate H0709269D01 read; 384 wells
INFO [2023-12-06 20:24:20] File done
INFO [2023-12-06 20:24:20] Reading file /Library/Frameworks/R.framework/Versions/4.3-x86_64/Resources/library/gDRimport/extdata/data4/H0809269D00.csv, sheet 0
INFO [2023-12-06 20:24:20] Plate H0809269D00 read; 384 wells
INFO [2023-12-06 20:24:20] File done
INFO [2023-12-06 20:24:20] Reading file /Library/Frameworks/R.framework/Versions/4.3-x86_64/Resources/library/gDRimport/extdata/data4/H0809269D01.csv, sheet 0
INFO [2023-12-06 20:24:20] Plate H0809269D01 read; 384 wells
INFO [2023-12-06 20:24:20] File done
INFO [2023-12-06 20:24:20] Reading file /Library/Frameworks/R.framework/Versions/4.3-x86_64/Resources/library/gDRimport/extdata/data4/H0909269D00.csv, sheet 0
INFO [2023-12-06 20:24:20] Plate H0909269D00 read; 384 wells
INFO [2023-12-06 20:24:20] File done
INFO [2023-12-06 20:24:20] Reading file /Library/Frameworks/R.framework/Versions/4.3-x86_64/Resources/library/gDRimport/extdata/data4/H0909269D01.csv, sheet 0
INFO [2023-12-06 20:24:20] Plate H0909269D01 read; 384 wells
INFO [2023-12-06 20:24:20] File done
INFO [2023-12-06 20:24:20] Reading file /Library/Frameworks/R.framework/Versions/4.3-x86_64/Resources/library/gDRimport/extdata/data4/H1109269D00.csv, sheet 0
INFO [2023-12-06 20:24:20] Plate H1109269D00 read; 384 wells
INFO [2023-12-06 20:24:20] File done
INFO [2023-12-06 20:24:20] Reading file /Library/Frameworks/R.framework/Versions/4.3-x86_64/Resources/library/gDRimport/extdata/data4/H1109269D01.csv, sheet 0
INFO [2023-12-06 20:24:20] Plate H1109269D01 read; 384 wells
INFO [2023-12-06 20:24:20] File done
INFO [2023-12-06 20:24:20] Reading file /Library/Frameworks/R.framework/Versions/4.3-x86_64/Resources/library/gDRimport/extdata/data4/H1209269D00.csv, sheet 0
INFO [2023-12-06 20:24:20] Plate H1209269D00 read; 384 wells
INFO [2023-12-06 20:24:20] File done
INFO [2023-12-06 20:24:20] Reading file /Library/Frameworks/R.framework/Versions/4.3-x86_64/Resources/library/gDRimport/extdata/data4/H1209269D01.csv, sheet 0
INFO [2023-12-06 20:24:20] Plate H1209269D01 read; 384 wells
INFO [2023-12-06 20:24:20] File done
INFO [2023-12-06 20:24:20] Reading file /Library/Frameworks/R.framework/Versions/4.3-x86_64/Resources/library/gDRimport/extdata/data4/H1409269D00.csv, sheet 0
INFO [2023-12-06 20:24:20] Plate H1409269D00 read; 384 wells
INFO [2023-12-06 20:24:20] File done
INFO [2023-12-06 20:24:20] Reading file /Library/Frameworks/R.framework/Versions/4.3-x86_64/Resources/library/gDRimport/extdata/data4/H1409269D01.csv, sheet 0
INFO [2023-12-06 20:24:20] Plate H1409269D01 read; 384 wells
INFO [2023-12-06 20:24:20] File done
INFO [2023-12-06 20:24:20] Reading file /Library/Frameworks/R.framework/Versions/4.3-x86_64/Resources/library/gDRimport/extdata/data4/K0209269D00.csv, sheet 0
INFO [2023-12-06 20:24:20] Plate K0209269D00 read; 384 wells
INFO [2023-12-06 20:24:20] File done
INFO [2023-12-06 20:24:20] Reading file /Library/Frameworks/R.framework/Versions/4.3-x86_64/Resources/library/gDRimport/extdata/data4/K0209269D01.csv, sheet 0
INFO [2023-12-06 20:24:20] Plate K0209269D01 read; 384 wells
INFO [2023-12-06 20:24:20] File done
INFO [2023-12-06 20:24:20] Reading file /Library/Frameworks/R.framework/Versions/4.3-x86_64/Resources/library/gDRimport/extdata/data4/K0809269D00.csv, sheet 0
INFO [2023-12-06 20:24:20] Plate K0809269D00 read; 384 wells
INFO [2023-12-06 20:24:20] File done
INFO [2023-12-06 20:24:20] Reading file /Library/Frameworks/R.framework/Versions/4.3-x86_64/Resources/library/gDRimport/extdata/data4/K0809269D01.csv, sheet 0
INFO [2023-12-06 20:24:20] Plate K0809269D01 read; 384 wells
INFO [2023-12-06 20:24:20] File done
INFO [2023-12-06 20:24:20] Reading file /Library/Frameworks/R.framework/Versions/4.3-x86_64/Resources/library/gDRimport/extdata/data4/K1009269D00.csv, sheet 0
INFO [2023-12-06 20:24:20] Plate K1009269D00 read; 384 wells
INFO [2023-12-06 20:24:20] File done
INFO [2023-12-06 20:24:20] Reading file /Library/Frameworks/R.framework/Versions/4.3-x86_64/Resources/library/gDRimport/extdata/data4/K1009269D01.csv, sheet 0
INFO [2023-12-06 20:24:20] Plate K1009269D01 read; 384 wells
INFO [2023-12-06 20:24:20] File done
INFO [2023-12-06 20:24:21] Manifest loaded successfully
INFO [2023-12-06 20:24:21] Reading Template_7daytreated.xlsx with load_templates_xlsx
INFO [2023-12-06 20:24:21] Loading Template_7daytreated.xlsx
INFO [2023-12-06 20:24:21] Loading Template_Untreated.xlsx
INFO [2023-12-06 20:24:21] Templates loaded successfully!
INFO [2023-12-06 20:24:21] Manifest loaded successfully
INFO [2023-12-06 20:24:21] Reading Template_7daytreated.xlsx with load_templates_xlsx
INFO [2023-12-06 20:24:21] Loading Template_7daytreated.xlsx
INFO [2023-12-06 20:24:21] Loading Template_Untreated.xlsx
INFO [2023-12-06 20:24:21] Templates loaded successfully!
WARN [2023-12-06 20:24:23] Metadata field names for  cannot contain spaces --> corrected to: Gnumber
WARN [2023-12-06 20:24:23] Header Gnumber in  corrected to Gnumber
[ FAIL 0 | WARN 0 | SKIP 0 | PASS 126 ]
> 
> 
> proc.time()
   user  system elapsed 
 40.987   3.452  44.947 

Example timings

gDRimport.Rcheck/gDRimport-Ex.timings

nameusersystemelapsed
check_metadata_names0.0620.0140.078
convert_MAE_to_PSet4.8910.3075.232
convert_pset_to_df0.1660.0220.191
detect_file_format0.2720.0140.290
getPSet0.1500.0060.158
get_exception_data0.0460.0010.047
get_test_D300_data0.0020.0010.002
get_test_EnVision_data0.0020.0010.002
get_test_Tecan_data0.0010.0000.002
get_test_data0.0030.0000.003
import_D3002.7780.4913.372
is_readable_v0.0020.0010.002
load_data1.9270.0922.037
load_manifest0.0240.0040.028
load_results1.0910.0951.195
load_templates0.2070.0790.301
manifest_path-method0.0030.0010.003
parse_D300_xml1.1270.0271.162
read_excel_to_dt0.0240.0140.040
result_path-method0.0030.0010.003
setEnvForPSet0.0010.0010.001
standardize_record_values000
template_path-method0.0020.0000.003