Name | Last modified | Size | Description | |
---|---|---|---|---|
Parent Directory | - | |||
buildsrc-out.txt | 18-Apr-2024 00:35 | 750 | ||
buildsrc-summary.dcf | 18-Apr-2024 00:35 | 428 | ||
checksrc-out.txt | 18-Apr-2024 00:35 | 4.4K | ||
checksrc-summary.dcf | 18-Apr-2024 00:35 | 435 | ||
install-out.txt | 18-Apr-2024 00:35 | 964 | ||
install-summary.dcf | 18-Apr-2024 00:35 | 267 | ||