Index of /checkResults/3.18/bioc-LATEST/fcoex/raw-results/lconway
Name
Last modified
Size
Description
Parent Directory
-
buildsrc-out.txt
05-Mar-2024 01:37
1.3K
buildsrc-summary.dcf
05-Mar-2024 01:37
340
install-out.txt
05-Mar-2024 01:37
1.7K
install-summary.dcf
05-Mar-2024 01:37
265