Name | Last modified | Size | Description | |
---|---|---|---|---|
Parent Directory | - | |||
install-out.txt | 05-Mar-2024 01:37 | 5.5K | ||
install-summary.dcf | 05-Mar-2024 01:37 | 268 | ||
buildsrc-out.txt | 05-Mar-2024 01:37 | 882 | ||
buildsrc-summary.dcf | 05-Mar-2024 01:37 | 425 | ||
checksrc-out.txt | 05-Mar-2024 01:37 | 5.6K | ||
checksrc-summary.dcf | 05-Mar-2024 01:37 | 440 | ||
buildbin-out.txt | 05-Mar-2024 01:37 | 7.5K | ||
buildbin-summary.dcf | 05-Mar-2024 01:37 | 524 | ||