Name | Last modified | Size | Description | |
---|---|---|---|---|
Parent Directory | - | |||
buildbin-summary.dcf | 18-Apr-2024 00:36 | 575 | ||
buildbin-out.txt | 18-Apr-2024 00:36 | 1.1K | ||
checksrc-summary.dcf | 18-Apr-2024 00:36 | 493 | ||
checksrc-out.txt | 18-Apr-2024 00:36 | 3.3K | ||
buildsrc-summary.dcf | 18-Apr-2024 00:36 | 492 | ||
buildsrc-out.txt | 18-Apr-2024 00:36 | 926 | ||
install-summary.dcf | 18-Apr-2024 00:36 | 288 | ||
install-out.txt | 18-Apr-2024 00:36 | 1.0K | ||