Name | Last modified | Size | Description | |
---|---|---|---|---|
Parent Directory | - | |||
install-summary.dcf | 03-Nov-2023 00:40 | 273 | ||
install-out.txt | 03-Nov-2023 00:40 | 962 | ||
checksrc-summary.dcf | 03-Nov-2023 00:40 | 463 | ||
checksrc-out.txt | 03-Nov-2023 00:40 | 3.4K | ||
buildsrc-summary.dcf | 03-Nov-2023 00:40 | 441 | ||
buildsrc-out.txt | 03-Nov-2023 00:40 | 880 | ||