Name | Last modified | Size | Description | |
---|---|---|---|---|
Parent Directory | - | |||
install-summary.dcf | 03-Nov-2023 00:40 | 253 | ||
install-out.txt | 03-Nov-2023 00:40 | 948 | ||
checksrc-summary.dcf | 03-Nov-2023 00:40 | 417 | ||
checksrc-out.txt | 03-Nov-2023 00:40 | 3.5K | ||
buildsrc-summary.dcf | 03-Nov-2023 00:40 | 411 | ||
buildsrc-out.txt | 03-Nov-2023 00:40 | 1.2K | ||