Name | Last modified | Size | Description | |
---|---|---|---|---|
Parent Directory | - | |||
buildbin-out.txt | 18-Apr-2024 00:36 | 1.9K | ||
buildbin-summary.dcf | 18-Apr-2024 00:36 | 542 | ||
buildsrc-out.txt | 18-Apr-2024 00:36 | 955 | ||
buildsrc-summary.dcf | 18-Apr-2024 00:36 | 471 | ||
checksrc-out.txt | 18-Apr-2024 00:36 | 4.3K | ||
checksrc-summary.dcf | 18-Apr-2024 00:36 | 465 | ||
install-out.txt | 18-Apr-2024 00:36 | 1.8K | ||
install-summary.dcf | 18-Apr-2024 00:36 | 277 | ||