Name | Last modified | Size | Description | |
---|---|---|---|---|
Parent Directory | - | |||
install-summary.dcf | 18-Apr-2024 00:37 | 279 | ||
buildsrc-summary.dcf | 18-Apr-2024 00:37 | 441 | ||
checksrc-summary.dcf | 18-Apr-2024 00:37 | 462 | ||
buildbin-summary.dcf | 18-Apr-2024 00:37 | 558 | ||
buildsrc-out.txt | 18-Apr-2024 00:37 | 928 | ||
install-out.txt | 18-Apr-2024 00:37 | 2.0K | ||
checksrc-out.txt | 18-Apr-2024 00:37 | 3.9K | ||
buildbin-out.txt | 18-Apr-2024 00:37 | 4.2K | ||