Index of /checkResults/3.18/bioc-LATEST/eisaR/raw-results/palomino4

[ICO]NameLast modifiedSizeDescription

[DIR]Parent Directory  -  
[TXT]buildbin-out.txt23-Feb-2024 01:36 1.0K 
[   ]buildbin-summary.dcf23-Feb-2024 01:36 503  
[TXT]buildsrc-out.txt23-Feb-2024 01:36 829  
[   ]buildsrc-summary.dcf23-Feb-2024 01:36 445  
[TXT]checksrc-out.txt23-Feb-2024 01:36 3.2K 
[   ]checksrc-summary.dcf23-Feb-2024 01:36 439  
[TXT]install-out.txt23-Feb-2024 01:36 956  
[   ]install-summary.dcf23-Feb-2024 01:36 264