Index of /checkResults/3.18/bioc-LATEST/eisaR/raw-results/nebbiolo2

[ICO]NameLast modifiedSizeDescription

[DIR]Parent Directory  -  
[TXT]buildsrc-out.txt30-Mar-2024 00:35 798  
[   ]buildsrc-summary.dcf30-Mar-2024 00:35 411  
[TXT]checksrc-out.txt30-Mar-2024 00:35 3.4K 
[   ]checksrc-summary.dcf30-Mar-2024 00:35 406  
[TXT]install-out.txt30-Mar-2024 00:35 946  
[   ]install-summary.dcf30-Mar-2024 00:35 255