Name | Last modified | Size | Description | |
---|---|---|---|---|
Parent Directory | - | |||
install-summary.dcf | 18-Apr-2024 00:37 | 261 | ||
install-out.txt | 18-Apr-2024 00:37 | 1.0K | ||
checksrc-summary.dcf | 18-Apr-2024 00:37 | 427 | ||
checksrc-out.txt | 18-Apr-2024 00:37 | 4.2K | ||
buildsrc-summary.dcf | 18-Apr-2024 00:37 | 415 | ||
buildsrc-out.txt | 18-Apr-2024 00:37 | 863 | ||
buildbin-summary.dcf | 18-Apr-2024 00:37 | 505 | ||
buildbin-out.txt | 18-Apr-2024 00:37 | 1.1K | ||