Name | Last modified | Size | Description | |
---|---|---|---|---|
Parent Directory | - | |||
buildsrc-out.txt | 18-Apr-2024 00:35 | 869 | ||
buildsrc-summary.dcf | 18-Apr-2024 00:35 | 418 | ||
checksrc-out.txt | 18-Apr-2024 00:35 | 3.4K | ||
checksrc-summary.dcf | 18-Apr-2024 00:35 | 414 | ||
install-out.txt | 18-Apr-2024 00:35 | 1.0K | ||
install-summary.dcf | 18-Apr-2024 00:35 | 258 | ||