Name | Last modified | Size | Description | |
---|---|---|---|---|
Parent Directory | - | |||
install-summary.dcf | 18-Apr-2024 00:36 | 264 | ||
buildsrc-summary.dcf | 18-Apr-2024 00:36 | 445 | ||
checksrc-summary.dcf | 18-Apr-2024 00:36 | 445 | ||
buildbin-summary.dcf | 18-Apr-2024 00:36 | 503 | ||
buildsrc-out.txt | 18-Apr-2024 00:36 | 921 | ||
install-out.txt | 18-Apr-2024 00:36 | 2.6K | ||
buildbin-out.txt | 18-Apr-2024 00:36 | 2.7K | ||
checksrc-out.txt | 18-Apr-2024 00:36 | 6.4K | ||