Name | Last modified | Size | Description | |
---|---|---|---|---|
Parent Directory | - | |||
install-summary.dcf | 05-Mar-2024 01:37 | 265 | ||
buildsrc-summary.dcf | 05-Mar-2024 01:37 | 422 | ||
checksrc-summary.dcf | 05-Mar-2024 01:37 | 442 | ||
buildbin-summary.dcf | 05-Mar-2024 01:37 | 518 | ||
buildsrc-out.txt | 05-Mar-2024 01:37 | 901 | ||
install-out.txt | 05-Mar-2024 01:37 | 2.9K | ||
buildbin-out.txt | 05-Mar-2024 01:37 | 4.7K | ||
checksrc-out.txt | 05-Mar-2024 01:37 | 6.1K | ||