Name | Last modified | Size | Description | |
---|---|---|---|---|
Parent Directory | - | |||
buildsrc-out.txt | 03-Nov-2023 00:40 | 885 | ||
buildsrc-summary.dcf | 03-Nov-2023 00:40 | 405 | ||
checksrc-out.txt | 03-Nov-2023 00:40 | 7.8K | ||
checksrc-summary.dcf | 03-Nov-2023 00:40 | 413 | ||
install-out.txt | 03-Nov-2023 00:40 | 2.3K | ||
install-summary.dcf | 03-Nov-2023 00:40 | 249 | ||