Name | Last modified | Size | Description | |
---|---|---|---|---|
Parent Directory | - | |||
install-summary.dcf | 18-Apr-2024 00:35 | 266 | ||
install-out.txt | 18-Apr-2024 00:35 | 964 | ||
checksrc-summary.dcf | 18-Apr-2024 00:35 | 428 | ||
checksrc-out.txt | 18-Apr-2024 00:35 | 3.2K | ||
buildsrc-summary.dcf | 18-Apr-2024 00:35 | 427 | ||
buildsrc-out.txt | 18-Apr-2024 00:35 | 821 | ||