Back to Multiple platform build/check report for BioC 3.18:   simplified   long
AB[C]DEFGHIJKLMNOPQRSTUVWXYZ

This page was generated on 2023-11-08 11:37:34 -0500 (Wed, 08 Nov 2023).

HostnameOSArch (*)R versionInstalled pkgs
nebbiolo2Linux (Ubuntu 22.04.2 LTS)x86_644.3.2 (2023-10-31) -- "Eye Holes" 4643
palomino4Windows Server 2022 Datacenterx644.3.2 (2023-10-31 ucrt) -- "Eye Holes" 4408
lconwaymacOS 12.6.5 Montereyx86_644.3.2 Patched (2023-11-01 r85457) -- "Eye Holes" 4426
Click on any hostname to see more info about the system (e.g. compilers)      (*) as reported by 'uname -p', except on Windows and Mac OS X

Package 438/2266HostnameOS / ArchINSTALLBUILDCHECKBUILD BIN
corral 1.12.0  (landing page)
Lauren Hsu
Snapshot Date: 2023-11-07 14:05:05 -0500 (Tue, 07 Nov 2023)
git_url: https://git.bioconductor.org/packages/corral
git_branch: RELEASE_3_18
git_last_commit: ff9dade
git_last_commit_date: 2023-10-24 11:23:12 -0500 (Tue, 24 Oct 2023)
nebbiolo2Linux (Ubuntu 22.04.2 LTS) / x86_64  OK    OK    OK  UNNEEDED, same version is already published
palomino4Windows Server 2022 Datacenter / x64  OK    OK    OK    OK  UNNEEDED, same version is already published
lconwaymacOS 12.6.5 Monterey / x86_64  OK    OK    OK    OK  UNNEEDED, same version is already published
kjohnson1macOS 13.6.1 Ventura / arm64see weekly results here

BUILD BIN results for corral on lconway


To the developers/maintainers of the corral package:
- Allow up to 24 hours (and sometimes 48 hours) for your latest push to git@git.bioconductor.org:packages/corral.git to reflect on this report. See Troubleshooting Build Report for more information.
- Use the following Renviron settings to reproduce errors and warnings.
- If 'R CMD check' started to fail recently on the Linux builder(s) over a missing dependency, add the missing dependency to 'Suggests:' in your DESCRIPTION file. See Renviron.bioc for more information.

raw results


Summary

Package: corral
Version: 1.12.0
Command: rm -rf corral.buildbin-libdir && mkdir corral.buildbin-libdir && /Users/biocbuild/BBS/utils/build-universal.sh corral_1.12.0.tar.gz /Library/Frameworks/R.framework/Resources/bin/R corral.buildbin-libdir
StartedAt: 2023-11-08 00:06:35 -0500 (Wed, 08 Nov 2023)
EndedAt: 2023-11-08 00:07:13 -0500 (Wed, 08 Nov 2023)
EllapsedTime: 38.7 seconds
RetCode: 0
Status:   OK  
PackageFile: corral_1.12.0.tgz
PackageFileSize: 1.711 MiB

Command output

##############################################################################
##############################################################################
###
### Running command:
###
###   rm -rf corral.buildbin-libdir && mkdir corral.buildbin-libdir && /Users/biocbuild/BBS/utils/build-universal.sh corral_1.12.0.tar.gz /Library/Frameworks/R.framework/Resources/bin/R corral.buildbin-libdir
###
##############################################################################
##############################################################################


>>>>>>> 
>>>>>>> INSTALLATION WITH 'R CMD INSTALL --preclean --no-multiarch --library=corral.buildbin-libdir corral_1.12.0.tar.gz'
>>>>>>> 

* installing *source* package ‘corral’ ...
** using staged installation
** R
** inst
** byte-compile and prepare package for lazy loading
** help
*** installing help indices
** building package indices
** installing vignettes
** testing if installed package can be loaded from temporary location
** testing if installed package can be loaded from final location
** testing if installed package keeps a record of temporary installation path
* DONE (corral)