Index of /checkResults/3.18/bioc-LATEST/cn.farms/raw-results

[ICO]NameLast modifiedSizeDescription

[DIR]Parent Directory  -  
[   ]info.dcf22-Feb-2024 01:37 843  
[DIR]kunpeng2/03-Nov-2023 00:40 -  
[DIR]lconway/22-Feb-2024 01:37 -  
[DIR]nebbiolo2/22-Feb-2024 01:35 -  
[DIR]palomino4/22-Feb-2024 01:36 -