Name | Last modified | Size | Description | |
---|---|---|---|---|
Parent Directory | - | |||
checksrc-summary.dcf | 18-Apr-2024 00:35 | 446 | ||
checksrc-out.txt | 18-Apr-2024 00:35 | 15K | ||
buildsrc-out.txt | 18-Apr-2024 00:35 | 901 | ||
buildsrc-summary.dcf | 18-Apr-2024 00:35 | 441 | ||
install-summary.dcf | 18-Apr-2024 00:35 | 275 | ||
install-out.txt | 18-Apr-2024 00:35 | 1.0K | ||