Index of /checkResults/3.18/bioc-LATEST/circRNAprofiler/raw-results/nebbiolo2

[ICO]NameLast modifiedSizeDescription

[DIR]Parent Directory  -  
[TXT]buildsrc-out.txt30-Mar-2024 00:35 901  
[   ]buildsrc-summary.dcf30-Mar-2024 00:35 441  
[TXT]checksrc-out.txt30-Mar-2024 00:35 15K 
[   ]checksrc-summary.dcf30-Mar-2024 00:35 446  
[TXT]install-out.txt30-Mar-2024 00:35 1.0K 
[   ]install-summary.dcf30-Mar-2024 00:35 275