Name | Last modified | Size | Description | |
---|---|---|---|---|
Parent Directory | - | |||
install-summary.dcf | 18-Apr-2024 00:37 | 286 | ||
install-out.txt | 18-Apr-2024 00:37 | 1.0K | ||
checksrc-summary.dcf | 18-Apr-2024 00:37 | 477 | ||
checksrc-out.txt | 18-Apr-2024 00:37 | 15K | ||
buildsrc-summary.dcf | 18-Apr-2024 00:37 | 452 | ||
buildsrc-out.txt | 18-Apr-2024 00:37 | 911 | ||
buildbin-summary.dcf | 18-Apr-2024 00:37 | 579 | ||
buildbin-out.txt | 18-Apr-2024 00:37 | 1.2K | ||