Name | Last modified | Size | Description | |
---|---|---|---|---|
Parent Directory | - | |||
buildbin-out.txt | 18-Apr-2024 00:36 | 2.9K | ||
buildbin-summary.dcf | 18-Apr-2024 00:36 | 522 | ||
buildsrc-out.txt | 18-Apr-2024 00:36 | 1.2K | ||
buildsrc-summary.dcf | 18-Apr-2024 00:36 | 455 | ||
checksrc-out.txt | 18-Apr-2024 00:36 | 4.9K | ||
checksrc-summary.dcf | 18-Apr-2024 00:36 | 451 | ||
install-out.txt | 18-Apr-2024 00:36 | 2.8K | ||
install-summary.dcf | 18-Apr-2024 00:36 | 271 | ||