Name | Last modified | Size | Description | |
---|---|---|---|---|
Parent Directory | - | |||
buildsrc-out.txt | 03-Nov-2023 00:40 | 1.2K | ||
buildsrc-summary.dcf | 03-Nov-2023 00:40 | 415 | ||
checksrc-out.txt | 03-Nov-2023 00:40 | 5.5K | ||
checksrc-summary.dcf | 03-Nov-2023 00:40 | 425 | ||
install-out.txt | 03-Nov-2023 00:40 | 2.5K | ||
install-summary.dcf | 03-Nov-2023 00:40 | 256 | ||