Name | Last modified | Size | Description | |
---|---|---|---|---|
Parent Directory | - | |||
buildbin-out.txt | 18-Apr-2024 00:36 | 4.8K | ||
buildbin-summary.dcf | 18-Apr-2024 00:36 | 538 | ||
buildsrc-out.txt | 18-Apr-2024 00:36 | 951 | ||
buildsrc-summary.dcf | 18-Apr-2024 00:36 | 468 | ||
checksrc-out.txt | 18-Apr-2024 00:36 | 8.8K | ||
checksrc-summary.dcf | 18-Apr-2024 00:36 | 462 | ||
install-out.txt | 18-Apr-2024 00:36 | 4.6K | ||
install-summary.dcf | 18-Apr-2024 00:36 | 276 | ||