Name | Last modified | Size | Description | |
---|---|---|---|---|
Parent Directory | - | |||
buildbin-out.txt | 18-Apr-2024 00:37 | 6.7K | ||
buildbin-summary.dcf | 18-Apr-2024 00:37 | 554 | ||
buildsrc-out.txt | 18-Apr-2024 00:37 | 925 | ||
buildsrc-summary.dcf | 18-Apr-2024 00:37 | 439 | ||
checksrc-out.txt | 18-Apr-2024 00:37 | 8.8K | ||
checksrc-summary.dcf | 18-Apr-2024 00:37 | 466 | ||
install-out.txt | 18-Apr-2024 00:37 | 4.7K | ||
install-summary.dcf | 18-Apr-2024 00:37 | 277 | ||