Name | Last modified | Size | Description | |
---|---|---|---|---|
Parent Directory | - | |||
checksrc-out.txt | 26-Oct-2023 00:41 | 4.4K | ||
checksrc-summary.dcf | 26-Oct-2023 00:41 | 420 | ||
install-out.txt | 03-Nov-2023 00:40 | 1.3K | ||
install-summary.dcf | 03-Nov-2023 00:40 | 260 | ||
buildsrc-out.txt | 03-Nov-2023 00:40 | 622 | ||
buildsrc-summary.dcf | 03-Nov-2023 00:40 | 340 | ||