Name | Last modified | Size | Description | |
---|---|---|---|---|
Parent Directory | - | |||
install-summary.dcf | 05-Mar-2024 01:37 | 278 | ||
buildsrc-summary.dcf | 05-Mar-2024 01:37 | 440 | ||
checksrc-summary.dcf | 05-Mar-2024 01:37 | 462 | ||
buildbin-summary.dcf | 05-Mar-2024 01:37 | 557 | ||
buildsrc-out.txt | 05-Mar-2024 01:37 | 835 | ||
install-out.txt | 05-Mar-2024 01:37 | 1.0K | ||
buildbin-out.txt | 05-Mar-2024 01:37 | 1.2K | ||
checksrc-out.txt | 05-Mar-2024 01:37 | 3.2K | ||