Name | Last modified | Size | Description | |
---|---|---|---|---|
Parent Directory | - | |||
install-summary.dcf | 03-Nov-2023 00:40 | 261 | ||
install-out.txt | 03-Nov-2023 00:40 | 955 | ||
checksrc-summary.dcf | 03-Nov-2023 00:40 | 435 | ||
checksrc-out.txt | 03-Nov-2023 00:40 | 3.2K | ||
buildsrc-summary.dcf | 03-Nov-2023 00:40 | 424 | ||
buildsrc-out.txt | 03-Nov-2023 00:40 | 819 | ||