Name | Last modified | Size | Description | |
---|---|---|---|---|
Parent Directory | - | |||
install-summary.dcf | 03-Nov-2023 00:40 | 259 | ||
install-out.txt | 03-Nov-2023 00:40 | 952 | ||
checksrc-summary.dcf | 03-Nov-2023 00:40 | 431 | ||
checksrc-out.txt | 03-Nov-2023 00:40 | 3.3K | ||
buildsrc-summary.dcf | 03-Nov-2023 00:40 | 421 | ||
buildsrc-out.txt | 03-Nov-2023 00:40 | 815 | ||