Name | Last modified | Size | Description | |
---|---|---|---|---|
Parent Directory | - | |||
install-summary.dcf | 18-Apr-2024 00:36 | 268 | ||
install-out.txt | 18-Apr-2024 00:36 | 2.7K | ||
checksrc-summary.dcf | 18-Apr-2024 00:36 | 447 | ||
checksrc-out.txt | 18-Apr-2024 00:36 | 4.5K | ||
buildsrc-summary.dcf | 18-Apr-2024 00:36 | 452 | ||
buildsrc-out.txt | 18-Apr-2024 00:36 | 931 | ||
buildbin-summary.dcf | 18-Apr-2024 00:36 | 515 | ||
buildbin-out.txt | 18-Apr-2024 00:36 | 2.8K | ||