Name | Last modified | Size | Description | |
---|---|---|---|---|
Parent Directory | - | |||
buildbin-out.txt | 05-Mar-2024 01:37 | 6.6K | ||
buildbin-summary.dcf | 05-Mar-2024 01:37 | 528 | ||
buildsrc-out.txt | 05-Mar-2024 01:37 | 909 | ||
buildsrc-summary.dcf | 05-Mar-2024 01:37 | 427 | ||
checksrc-out.txt | 05-Mar-2024 01:37 | 4.0K | ||
checksrc-summary.dcf | 05-Mar-2024 01:37 | 444 | ||
install-out.txt | 05-Mar-2024 01:37 | 3.0K | ||
install-summary.dcf | 05-Mar-2024 01:37 | 269 | ||