Index of /checkResults/3.18/bioc-LATEST/atena/raw-results/nebbiolo2

[ICO]NameLast modifiedSizeDescription

[DIR]Parent Directory  -  
[TXT]buildsrc-out.txt30-Mar-2024 00:35 797  
[   ]buildsrc-summary.dcf30-Mar-2024 00:35 409  
[TXT]checksrc-out.txt30-Mar-2024 00:35 4.0K 
[   ]checksrc-summary.dcf30-Mar-2024 00:35 404  
[TXT]install-out.txt30-Mar-2024 00:35 946  
[   ]install-summary.dcf30-Mar-2024 00:35 254