Name | Last modified | Size | Description | |
---|---|---|---|---|
Parent Directory | - | |||
buildbin-out.txt | 18-Apr-2024 00:37 | 1.2K | ||
buildbin-summary.dcf | 18-Apr-2024 00:37 | 602 | ||
buildsrc-out.txt | 18-Apr-2024 00:37 | 864 | ||
buildsrc-summary.dcf | 18-Apr-2024 00:37 | 464 | ||
checksrc-out.txt | 18-Apr-2024 00:37 | 3.3K | ||
checksrc-summary.dcf | 18-Apr-2024 00:37 | 492 | ||
install-out.txt | 18-Apr-2024 00:37 | 1.0K | ||
install-summary.dcf | 18-Apr-2024 00:37 | 293 | ||