Name | Last modified | Size | Description | |
---|---|---|---|---|
Parent Directory | - | |||
install-out.txt | 18-Apr-2024 00:36 | 949 | ||
install-summary.dcf | 18-Apr-2024 00:36 | 276 | ||
buildsrc-out.txt | 18-Apr-2024 00:36 | 785 | ||
buildsrc-summary.dcf | 18-Apr-2024 00:36 | 467 | ||
checksrc-out.txt | 18-Apr-2024 00:36 | 4.3K | ||
checksrc-summary.dcf | 18-Apr-2024 00:36 | 462 | ||
buildbin-out.txt | 18-Apr-2024 00:36 | 1.1K | ||
buildbin-summary.dcf | 18-Apr-2024 00:36 | 539 | ||