Name | Last modified | Size | Description | |
---|---|---|---|---|
Parent Directory | - | |||
checksrc-out.txt | 18-Apr-2024 00:36 | 4.5K | ||
buildbin-out.txt | 18-Apr-2024 00:36 | 3.0K | ||
install-out.txt | 18-Apr-2024 00:36 | 2.8K | ||
buildsrc-out.txt | 18-Apr-2024 00:36 | 919 | ||
buildbin-summary.dcf | 18-Apr-2024 00:36 | 527 | ||
buildsrc-summary.dcf | 18-Apr-2024 00:36 | 461 | ||
checksrc-summary.dcf | 18-Apr-2024 00:36 | 455 | ||
install-summary.dcf | 18-Apr-2024 00:36 | 272 | ||