Name | Last modified | Size | Description | |
---|---|---|---|---|
Parent Directory | - | |||
buildbin-out.txt | 18-Apr-2024 00:37 | 3.2K | ||
buildbin-summary.dcf | 18-Apr-2024 00:37 | 543 | ||
buildsrc-out.txt | 18-Apr-2024 00:37 | 896 | ||
buildsrc-summary.dcf | 18-Apr-2024 00:37 | 433 | ||
checksrc-out.txt | 18-Apr-2024 00:37 | 4.6K | ||
checksrc-summary.dcf | 18-Apr-2024 00:37 | 452 | ||
install-out.txt | 18-Apr-2024 00:37 | 3.0K | ||
install-summary.dcf | 18-Apr-2024 00:37 | 274 | ||