Name | Last modified | Size | Description | |
---|---|---|---|---|
Parent Directory | - | |||
install-out.txt | 03-Nov-2023 00:40 | 3.3K | ||
install-summary.dcf | 03-Nov-2023 00:40 | 258 | ||
buildsrc-out.txt | 03-Nov-2023 00:40 | 880 | ||
buildsrc-summary.dcf | 03-Nov-2023 00:40 | 417 | ||
checksrc-out.txt | 03-Nov-2023 00:40 | 3.4K | ||
checksrc-summary.dcf | 03-Nov-2023 00:40 | 431 | ||