Name | Last modified | Size | Description | |
---|---|---|---|---|
Parent Directory | - | |||
install-summary.dcf | 18-Apr-2024 00:35 | 259 | ||
install-out.txt | 18-Apr-2024 00:35 | 952 | ||
checksrc-summary.dcf | 18-Apr-2024 00:35 | 420 | ||
checksrc-out.txt | 18-Apr-2024 00:35 | 7.0K | ||
buildsrc-summary.dcf | 18-Apr-2024 00:35 | 417 | ||
buildsrc-out.txt | 18-Apr-2024 00:35 | 869 | ||