Name | Last modified | Size | Description | |
---|---|---|---|---|
Parent Directory | - | |||
install-summary.dcf | 18-Apr-2024 00:36 | 270 | ||
install-out.txt | 18-Apr-2024 00:36 | 1.8K | ||
checksrc-summary.dcf | 18-Apr-2024 00:36 | 451 | ||
checksrc-out.txt | 18-Apr-2024 00:36 | 4.2K | ||
buildsrc-summary.dcf | 18-Apr-2024 00:36 | 457 | ||
buildsrc-out.txt | 18-Apr-2024 00:36 | 913 | ||
buildbin-summary.dcf | 18-Apr-2024 00:36 | 521 | ||
buildbin-out.txt | 18-Apr-2024 00:36 | 2.0K | ||