Index of /checkResults/3.18/bioc-LATEST/amplican/raw-results/palomino4

[ICO]NameLast modifiedSizeDescription

[DIR]Parent Directory  -  
[TXT]buildbin-out.txt02-Mar-2024 01:36 2.0K 
[   ]buildbin-summary.dcf02-Mar-2024 01:36 521  
[TXT]buildsrc-out.txt02-Mar-2024 01:36 913  
[   ]buildsrc-summary.dcf02-Mar-2024 01:36 457  
[TXT]checksrc-out.txt02-Mar-2024 01:36 4.2K 
[   ]checksrc-summary.dcf02-Mar-2024 01:36 451  
[TXT]install-out.txt02-Mar-2024 01:36 1.8K 
[   ]install-summary.dcf02-Mar-2024 01:36 270